2.4384
0
0
-2.4384
510672.845191
3873677.130694
