2.4384
0
0
-2.4384
476219.033219
3790499.744379
