2.4384
0
0
-2.4384
453216.76998
3804419.488303
