2.4384
0
0
-2.4384
245285.209093
3780019.036597
