2.4384
0
0
-2.4384
419456.657578
3887815.018072
