2.4384
0
0
-2.4384
487863.981732
3901360.660467
