2.4384
0
0
-2.4384
385754.068339
3929764.335877
