2.4384
0
0
-2.4384
236740.312396
3891270.777735
