2.4384
0
0
-2.4384
295746.914268
3973072.211068
