2.4384
0
0
-2.4384
749728.476017
3891373.512125
