2.4384
0
0
-2.4384
726193.932101
3918392.670626
