2.4384
0
0
-2.4384
621679.8437
4068841.251823
