2.4384
0
0
-2.4384
544063.184011
3998618.481546
