2.4384
0
0
-2.4384
499030.814483
3998437.489889
