2.4384
0
0
-2.4384
576967.033576
4082075.056218
