2.4384
0
0
-2.4384
398349.973283
4026711.541996
