2.4384
0
0
-2.4384
342088.906768
4027569.767122
