1.5246632314
0.0000000000
0.0000000000
-1.5246632314
336101.1060298138
-494243.2989234991
