1.5259266546
0.0000000000
0.0000000000
-1.5259266546
301309.5080739776
-495627.4715293617
