1.5250003820
0.0000000000
0.0000000000
-1.5250003819
231650.2953958967
-497817.3914190024
