1.5255370975
0.0000000000
0.0000000000
-1.5255370975
460420.0839172067
-419177.3795438893
