1.5265202402
0.0000000000
0.0000000000
-1.5265202402
437439.0088254700
-420391.2422170650
