1.5278400903
0.0000000000
0.0000000000
-1.5278400903
375589.7112849564
-325906.9552073747
