1.5262137033
0.0000000000
0.0000000000
-1.5262137033
137273.9179568511
-389072.2005167439
