1.5263577200
0.0000000000
0.0000000000
-1.5263577200
102279.1814435977
-347993.4954834218
