1.5253328574
0.0000000000
0.0000000000
-1.5253328574
45286.9537251551
-376233.4217155863
