1.5256762106
0.0000000000
0.0000000000
-1.5256762106
409137.3572371535
-310654.6292806828
