1.5281557461
0.0000000000
0.0000000000
-1.5281557461
396506.2177144452
-283485.9595216421
