1.5283885098
0.0000000000
0.0000000000
-1.5283885098
123812.9689637872
-264228.1003245930
