1.5287027945
0.0000000000
0.0000000000
-1.5287027945
10631.3761964695
-251399.4681687220
