1.5287481308
0.0000000000
0.0000000000
-1.5287481308
-738.3935508023
-237526.9467081774
