1.5302976121
0.0000000000
0.0000000000
-1.5302976122
21853.3646131881
-223602.3424210472
