1.5286902936
0.0000000000
0.0000000000
-1.5286902936
234226.4683300385
-164642.1555629213
