1.5303629943
0.0000000000
0.0000000000
-1.5303629943
143945.7180901876
-111198.9007189312
