1.5282393519
0.0000000000
0.0000000000
-1.5282393519
-11896.7861959427
-168134.7293117979
