1.5291166294
0.0000000000
0.0000000000
-1.5291166294
-67428.2308077033
-126057.4690986154
