1.5287699197
0.0000000000
0.0000000000
-1.5287699197
143440.3677016999
-97209.4998178274
