1.5280792449
0.0000000000
0.0000000000
-1.5280792449
98618.3654227959
-56202.7088347721
