1.5284790728
0.0000000000
0.0000000000
-1.5284790728
98154.8428627939
-14674.5853157878
