1.5268451956
0.0000000000
0.0000000000
-1.5268451956
77006.7201607780
-98231.4924988772
