1.5289869344
0.0000000000
0.0000000000
-1.5289869344
10522.5853846339
-84807.2579699662
