1.5281330269
0.0000000000
0.0000000000
-1.5281330269
32642.2347753842
-70671.9362103521
