1.5275384120
0.0000000000
0.0000000000
-1.5275384120
-66644.4919159968
-15021.7350353823
