1.5268214047
0.0000000000
0.0000000000
-1.5268214047
-167138.0421749701
-97061.6455975561
