1.5293328659
0.0000000000
0.0000000000
-1.5293328659
-111427.2579998197
-70071.2225215339
