1.5289775724
0.0000000000
0.0000000000
-1.5289775724
-154359.0851053222
30.9808056029
