1.5290716136
0.0000000000
0.0000000000
-1.5290716136
-173968.5535674954
111563.4128650359
