1.5270319641
0.0000000000
0.0000000000
-1.5270319641
-251127.6659108247
71948.7150300745
