1.5289705823
0.0000000000
0.0000000000
-1.5289705823
-228733.5663831818
85042.3289826067
