1.5270827992
0.0000000000
0.0000000000
-1.5270827992
-65100.6414874029
165577.7370394864
